BEGIN:VCALENDAR
VERSION:2.0
PRODID:-//Tukios.com/
BEGIN:VEVENT
UID:7ff509e2-f90e-4c91-822b-146ccc5958f8@www.ballardandsons.com
DTSTAMP:20260420T234953Z
DTSTART:20260423T160000Z
DTEND:20260423T180000Z
SUMMARY:Visitation
DESCRIPTION:
URL:https://www.ballardandsons.com/obituaries/constance-connie-gibson
LOCATION: 118 S 5th St  Middletown IN 47356
GEO:40.0538584;-85.5336623
END:VEVENT
END:VCALENDAR