BEGIN:VCALENDAR
VERSION:2.0
PRODID:-//Tukios.com/
BEGIN:VEVENT
UID:52f4073c-211f-43dd-8883-db09ff561d1a@www.ballardandsons.com
DTSTAMP:20260420T234739Z
DTSTART:20260423T180000Z
DTEND:20260423T190000Z
SUMMARY:Funeral Service
DESCRIPTION:
URL:https://www.ballardandsons.com/obituaries/constance-connie-gibson
LOCATION: 118 S 5th St  Middletown IN 47356
GEO:40.0538584;-85.5336623
END:VEVENT
END:VCALENDAR