BEGIN:VCALENDAR
VERSION:2.0
PRODID:-//Tukios.com/
BEGIN:VEVENT
UID:d8700ce3-d8f8-4376-a2ae-c893cbcf64e5@www.ballardandsons.com
DTSTAMP:20260420T233220Z
DTSTART:20260427T200000Z
DTEND:20260427T220000Z
SUMMARY:Visitation
DESCRIPTION:
URL:https://www.ballardandsons.com/obituaries/john-harrington
LOCATION: 118 S 5th St  Middletown IN 47356
GEO:40.0538584;-85.5336623
END:VEVENT
END:VCALENDAR